Package: goSorensen Version: 1.9.0 Command: /Library/Frameworks/R.framework/Resources/bin/R CMD build --keep-empty-dirs --no-resave-data goSorensen StartedAt: 2025-02-20 16:31:37 -0500 (Thu, 20 Feb 2025) EndedAt: 2025-02-20 16:36:30 -0500 (Thu, 20 Feb 2025) EllapsedTime: 293.3 seconds RetCode: 0 Status: OK PackageFile: goSorensen_1.9.0.tar.gz PackageFileSize: 1.502 MiB