Package: goProfiles Version: 1.69.0 Command: E:\biocbuild\bbs-3.21-bioc\R\bin\R.exe CMD INSTALL goProfiles StartedAt: 2025-02-19 15:51:13 -0500 (Wed, 19 Feb 2025) EndedAt: 2025-02-19 15:51:53 -0500 (Wed, 19 Feb 2025) EllapsedTime: 40.7 seconds RetCode: 0 Status: OK