Package: goProfiles Version: 1.69.0 Command: E:\biocbuild\bbs-3.21-bioc\R\bin\R.exe CMD check --no-multiarch --install=check:goProfiles.install-out.txt --library=E:\biocbuild\bbs-3.21-bioc\R\library --no-vignettes --timings goProfiles_1.69.0.tar.gz StartedAt: 2025-02-21 01:57:10 -0500 (Fri, 21 Feb 2025) EndedAt: 2025-02-21 02:00:49 -0500 (Fri, 21 Feb 2025) EllapsedTime: 219.3 seconds RetCode: 0 Status: OK CheckDir: goProfiles.Rcheck Warnings: 0