Package: goProfiles Version: 1.69.0 Command: chmod a+r goProfiles -R && E:\biocbuild\bbs-3.21-bioc\R\bin\R.exe CMD build --keep-empty-dirs --no-resave-data goProfiles StartedAt: 2025-02-20 19:06:14 -0500 (Thu, 20 Feb 2025) EndedAt: 2025-02-20 19:07:14 -0500 (Thu, 20 Feb 2025) EllapsedTime: 59.3 seconds RetCode: 0 Status: OK PackageFile: goProfiles_1.69.0.tar.gz PackageFileSize: 288.5 KiB