Package: goProfiles Version: 1.69.0 Command: /home/biocbuild/bbs-3.21-bioc/R/bin/R CMD build --keep-empty-dirs --no-resave-data goProfiles StartedAt: 2025-02-20 17:39:03 -0500 (Thu, 20 Feb 2025) EndedAt: 2025-02-20 17:39:41 -0500 (Thu, 20 Feb 2025) EllapsedTime: 38.0 seconds RetCode: 0 Status: OK PackageFile: goProfiles_1.69.0.tar.gz PackageFileSize: 288.3 KiB