Package: goProfiles Version: 1.69.0 Command: /Library/Frameworks/R.framework/Resources/bin/R CMD build --keep-empty-dirs --no-resave-data goProfiles StartedAt: 2025-02-19 16:31:44 -0500 (Wed, 19 Feb 2025) EndedAt: 2025-02-19 16:32:01 -0500 (Wed, 19 Feb 2025) EllapsedTime: 16.1 seconds RetCode: 0 Status: OK PackageFile: goProfiles_1.69.0.tar.gz PackageFileSize: 288.3 KiB