Package: goProfiles Version: 1.69.0 Maintainer: Alex Sanchez MaintainerEmail: asanchez at ub.edu git_url: https://git.bioconductor.org/packages/goProfiles git_branch: devel git_last_commit: 9437379 git_last_commit_date: 2024-10-29 09:29:06 -0500 (Tue, 29 Oct 2024)