Package: gmoviz Version: 1.19.0 Command: E:\biocbuild\bbs-3.21-bioc\R\bin\R.exe CMD check --no-multiarch --install=check:gmoviz.install-out.txt --library=E:\biocbuild\bbs-3.21-bioc\R\library --no-vignettes --timings gmoviz_1.19.0.tar.gz StartedAt: 2025-02-19 01:35:17 -0500 (Wed, 19 Feb 2025) EndedAt: 2025-02-19 01:40:07 -0500 (Wed, 19 Feb 2025) EllapsedTime: 289.8 seconds RetCode: 0 Status: OK CheckDir: gmoviz.Rcheck Warnings: 0