Package: gmoviz Version: 1.19.0 Command: rm -rf gmoviz.buildbin-libdir && mkdir gmoviz.buildbin-libdir && E:\biocbuild\bbs-3.21-bioc\R\bin\R.exe CMD INSTALL --build --library=gmoviz.buildbin-libdir gmoviz_1.19.0.tar.gz StartedAt: 2025-02-19 07:34:29 -0500 (Wed, 19 Feb 2025) EndedAt: 2025-02-19 07:35:21 -0500 (Wed, 19 Feb 2025) EllapsedTime: 52.7 seconds RetCode: 0 Status: OK PackageFile: gmoviz_1.19.0.zip PackageFileSize: 4.759 MiB