Package: gmoviz Version: 1.19.0 Command: /home/biocbuild/bbs-3.21-bioc/R/bin/R CMD build --keep-empty-dirs --no-resave-data gmoviz StartedAt: 2025-02-18 17:22:57 -0500 (Tue, 18 Feb 2025) EndedAt: 2025-02-18 17:24:38 -0500 (Tue, 18 Feb 2025) EllapsedTime: 101.1 seconds RetCode: 0 Status: OK PackageFile: gmoviz_1.19.0.tar.gz PackageFileSize: 4.251 MiB