Package: gmoviz Version: 1.19.0 Command: /home/biocbuild/R/R/bin/R CMD build --keep-empty-dirs --no-resave-data gmoviz StartedAt: 2025-01-28 23:16:29 -0000 (Tue, 28 Jan 2025) EndedAt: 2025-01-28 23:19:05 -0000 (Tue, 28 Jan 2025) EllapsedTime: 156.0 seconds RetCode: 0 Status: OK PackageFile: gmoviz_1.19.0.tar.gz PackageFileSize: 4.251 MiB