Package: gmapR Version: 1.49.0 Command: /Library/Frameworks/R.framework/Resources/bin/R CMD INSTALL gmapR StartedAt: 2025-02-20 15:11:07 -0500 (Thu, 20 Feb 2025) EndedAt: 2025-02-20 15:13:30 -0500 (Thu, 20 Feb 2025) EllapsedTime: 143.1 seconds RetCode: 0 Status: OK