Package: globalSeq Version: 1.35.0 Command: E:\biocbuild\bbs-3.21-bioc\R\bin\R.exe CMD INSTALL globalSeq StartedAt: 2025-02-20 15:17:53 -0500 (Thu, 20 Feb 2025) EndedAt: 2025-02-20 15:18:07 -0500 (Thu, 20 Feb 2025) EllapsedTime: 13.7 seconds RetCode: 0 Status: OK