Package: globalSeq Version: 1.35.0 Command: E:\biocbuild\bbs-3.21-bioc\R\bin\R.exe CMD check --no-multiarch --install=check:globalSeq.install-out.txt --library=E:\biocbuild\bbs-3.21-bioc\R\library --no-vignettes --timings globalSeq_1.35.0.tar.gz StartedAt: 2025-02-21 01:54:43 -0500 (Fri, 21 Feb 2025) EndedAt: 2025-02-21 01:55:38 -0500 (Fri, 21 Feb 2025) EllapsedTime: 54.6 seconds RetCode: 0 Status: OK CheckDir: globalSeq.Rcheck Warnings: 0