Package: globalSeq Version: 1.35.0 Command: rm -rf globalSeq.buildbin-libdir && mkdir globalSeq.buildbin-libdir && E:\biocbuild\bbs-3.21-bioc\R\bin\R.exe CMD INSTALL --build --library=globalSeq.buildbin-libdir globalSeq_1.35.0.tar.gz StartedAt: 2025-02-21 08:13:15 -0500 (Fri, 21 Feb 2025) EndedAt: 2025-02-21 08:13:36 -0500 (Fri, 21 Feb 2025) EllapsedTime: 21.0 seconds RetCode: 0 Status: OK PackageFile: globalSeq_1.35.0.zip PackageFileSize: 716 KiB