Package: globalSeq Version: 1.35.0 Command: /home/biocbuild/bbs-3.21-bioc/R/bin/R CMD check --install=check:globalSeq.install-out.txt --library=/home/biocbuild/bbs-3.21-bioc/R/site-library --timings globalSeq_1.35.0.tar.gz StartedAt: 2025-02-20 22:26:56 -0500 (Thu, 20 Feb 2025) EndedAt: 2025-02-20 22:27:39 -0500 (Thu, 20 Feb 2025) EllapsedTime: 43.0 seconds RetCode: 0 Status: OK CheckDir: globalSeq.Rcheck Warnings: 0