Package: globalSeq Version: 1.35.0 Command: /home/biocbuild/bbs-3.21-bioc/R/bin/R CMD build --keep-empty-dirs --no-resave-data globalSeq StartedAt: 2025-02-20 17:38:03 -0500 (Thu, 20 Feb 2025) EndedAt: 2025-02-20 17:38:13 -0500 (Thu, 20 Feb 2025) EllapsedTime: 10.0 seconds RetCode: 0 Status: OK PackageFile: globalSeq_1.35.0.tar.gz PackageFileSize: 714.2 KiB