Package: glmSparseNet Version: 1.26.0 Command: rm -rf glmSparseNet.buildbin-libdir && mkdir glmSparseNet.buildbin-libdir && /Users/biocbuild/BBS/utils/build-universal.sh glmSparseNet_1.26.0.tar.gz /Library/Frameworks/R.framework/Resources/bin/R glmSparseNet.buildbin-libdir StartedAt: 2025-10-14 13:36:58 -0400 (Tue, 14 Oct 2025) EndedAt: 2025-10-14 13:37:12 -0400 (Tue, 14 Oct 2025) EllapsedTime: 13.6 seconds RetCode: 0 Status: OK PackageFile: glmSparseNet_1.26.0.tgz PackageFileSize: 2.898 MiB