Package: glmSparseNet Version: 1.25.0 Command: /Library/Frameworks/R.framework/Resources/bin/R CMD check --install=check:glmSparseNet.install-out.txt --library=/Library/Frameworks/R.framework/Resources/library --no-vignettes --timings glmSparseNet_1.25.0.tar.gz StartedAt: 2025-02-17 19:31:03 -0500 (Mon, 17 Feb 2025) EndedAt: 2025-02-17 19:31:42 -0500 (Mon, 17 Feb 2025) EllapsedTime: 38.5 seconds RetCode: 1 Status: ERROR CheckDir: glmSparseNet.Rcheck Warnings: NA