Package: glmSparseNet Version: 1.25.0 Command: /Library/Frameworks/R.framework/Resources/bin/R CMD build --keep-empty-dirs --no-resave-data glmSparseNet StartedAt: 2025-02-17 16:28:07 -0500 (Mon, 17 Feb 2025) EndedAt: 2025-02-17 16:31:18 -0500 (Mon, 17 Feb 2025) EllapsedTime: 191.0 seconds RetCode: 0 Status: OK PackageFile: glmSparseNet_1.25.0.tar.gz PackageFileSize: 2.806 MiB