Package: glmGamPoi Version: 1.19.4 Command: chmod a+r glmGamPoi -R && E:\biocbuild\bbs-3.21-bioc\R\bin\R.exe CMD build --keep-empty-dirs --no-resave-data glmGamPoi StartedAt: 2025-02-20 19:03:41 -0500 (Thu, 20 Feb 2025) EndedAt: 2025-02-20 19:17:11 -0500 (Thu, 20 Feb 2025) EllapsedTime: 810.2 seconds RetCode: 0 Status: OK PackageFile: glmGamPoi_1.19.4.tar.gz PackageFileSize: 1.68 MiB