Package: glmGamPoi Version: 1.19.4 Command: /home/biocbuild/bbs-3.21-bioc/R/bin/R CMD check --install=check:glmGamPoi.install-out.txt --library=/home/biocbuild/bbs-3.21-bioc/R/site-library --timings glmGamPoi_1.19.4.tar.gz StartedAt: 2025-02-20 22:26:51 -0500 (Thu, 20 Feb 2025) EndedAt: 2025-02-20 22:37:24 -0500 (Thu, 20 Feb 2025) EllapsedTime: 633.0 seconds RetCode: 1 Status: ERROR CheckDir: glmGamPoi.Rcheck Warnings: NA