Package: glmGamPoi Version: 1.19.4 Command: /Library/Frameworks/R.framework/Resources/bin/R CMD INSTALL glmGamPoi StartedAt: 2025-02-20 15:12:23 -0500 (Thu, 20 Feb 2025) EndedAt: 2025-02-20 15:13:24 -0500 (Thu, 20 Feb 2025) EllapsedTime: 60.4 seconds RetCode: 0 Status: OK