Package: glmGamPoi Version: 1.19.4 Command: /Library/Frameworks/R.framework/Resources/bin/R CMD build --keep-empty-dirs --no-resave-data glmGamPoi StartedAt: 2025-02-20 16:51:17 -0500 (Thu, 20 Feb 2025) EndedAt: 2025-02-20 17:00:51 -0500 (Thu, 20 Feb 2025) EllapsedTime: 574.2 seconds RetCode: 0 Status: OK PackageFile: glmGamPoi_1.19.4.tar.gz PackageFileSize: 2.087 MiB