Package: glmGamPoi Version: 1.19.2 Command: /home/biocbuild/R/R/bin/R CMD check --install=check:glmGamPoi.install-out.txt --library=/home/biocbuild/R/R/site-library --no-vignettes --timings glmGamPoi_1.19.2.tar.gz StartedAt: 2025-01-28 11:08:13 -0000 (Tue, 28 Jan 2025) EndedAt: 2025-01-28 11:12:11 -0000 (Tue, 28 Jan 2025) EllapsedTime: 238.1 seconds RetCode: 0 Status: OK CheckDir: glmGamPoi.Rcheck Warnings: 0