Package: girafe Version: 1.59.1 Command: /home/biocbuild/bbs-3.21-bioc/R/bin/R CMD check --install=check:girafe.install-out.txt --library=/home/biocbuild/bbs-3.21-bioc/R/site-library --timings girafe_1.59.1.tar.gz StartedAt: 2025-02-20 22:26:36 -0500 (Thu, 20 Feb 2025) EndedAt: 2025-02-20 22:31:03 -0500 (Thu, 20 Feb 2025) EllapsedTime: 267.4 seconds RetCode: 0 Status: OK CheckDir: girafe.Rcheck Warnings: 0