Package: girafe Version: 1.59.1 Command: /home/biocbuild/bbs-3.21-bioc/R/bin/R CMD build --keep-empty-dirs --no-resave-data girafe StartedAt: 2025-02-20 17:37:44 -0500 (Thu, 20 Feb 2025) EndedAt: 2025-02-20 17:38:45 -0500 (Thu, 20 Feb 2025) EllapsedTime: 61.1 seconds RetCode: 0 Status: OK PackageFile: girafe_1.59.1.tar.gz PackageFileSize: 1.539 MiB