Package: girafe Version: 1.59.1 Command: /home/biocbuild/R/R/bin/R CMD INSTALL girafe StartedAt: 2025-01-29 20:00:04 -0000 (Wed, 29 Jan 2025) EndedAt: 2025-01-29 20:00:05 -0000 (Wed, 29 Jan 2025) EllapsedTime: 1.1 seconds RetCode: 1 Status: ERROR