Package: ginmappeR Version: 1.3.3 Command: /home/biocbuild/bbs-3.21-bioc/R/bin/R CMD INSTALL ginmappeR StartedAt: 2025-02-21 16:12:36 -0500 (Fri, 21 Feb 2025) EndedAt: 2025-02-21 16:12:52 -0500 (Fri, 21 Feb 2025) EllapsedTime: 15.5 seconds RetCode: 0 Status: OK