Package: ggtreeSpace Version: 1.3.0 Command: chmod a+r ggtreeSpace -R && E:\biocbuild\bbs-3.21-bioc\R\bin\R.exe CMD build --keep-empty-dirs --no-resave-data ggtreeSpace StartedAt: 2025-02-19 19:00:54 -0500 (Wed, 19 Feb 2025) EndedAt: 2025-02-19 19:01:26 -0500 (Wed, 19 Feb 2025) EllapsedTime: 31.7 seconds RetCode: 0 Status: OK PackageFile: ggtreeSpace_1.3.0.tar.gz PackageFileSize: 305.1 KiB