Package: ggtreeSpace Version: 1.3.0 Command: /Library/Frameworks/R.framework/Resources/bin/R CMD check --install=check:ggtreeSpace.install-out.txt --library=/Library/Frameworks/R.framework/Resources/library --no-vignettes --timings ggtreeSpace_1.3.0.tar.gz StartedAt: 2025-02-19 20:47:00 -0500 (Wed, 19 Feb 2025) EndedAt: 2025-02-19 20:48:22 -0500 (Wed, 19 Feb 2025) EllapsedTime: 82.2 seconds RetCode: 0 Status: WARNINGS CheckDir: ggtreeSpace.Rcheck Warnings: 1