Package: ggtreeSpace Version: 1.3.0 Command: /home/biocbuild/R/R/bin/R CMD check --install=check:ggtreeSpace.install-out.txt --library=/home/biocbuild/R/R/site-library --no-vignettes --timings ggtreeSpace_1.3.0.tar.gz StartedAt: 2025-01-28 11:07:48 -0000 (Tue, 28 Jan 2025) EndedAt: 2025-01-28 11:09:33 -0000 (Tue, 28 Jan 2025) EllapsedTime: 105.1 seconds RetCode: 0 Status: WARNINGS CheckDir: ggtreeSpace.Rcheck Warnings: 1