Package: ggtreeExtra Version: 1.17.0 Command: E:\biocbuild\bbs-3.21-bioc\R\bin\R.exe CMD INSTALL ggtreeExtra StartedAt: 2025-02-20 15:45:43 -0500 (Thu, 20 Feb 2025) EndedAt: 2025-02-20 15:46:18 -0500 (Thu, 20 Feb 2025) EllapsedTime: 34.7 seconds RetCode: 0 Status: OK