Package: ggtreeExtra Version: 1.17.0 Command: rm -rf ggtreeExtra.buildbin-libdir && mkdir ggtreeExtra.buildbin-libdir && E:\biocbuild\bbs-3.21-bioc\R\bin\R.exe CMD INSTALL --build --library=ggtreeExtra.buildbin-libdir ggtreeExtra_1.17.0.tar.gz StartedAt: 2025-02-21 08:12:42 -0500 (Fri, 21 Feb 2025) EndedAt: 2025-02-21 08:13:25 -0500 (Fri, 21 Feb 2025) EllapsedTime: 42.5 seconds RetCode: 0 Status: OK PackageFile: ggtreeExtra_1.17.0.zip PackageFileSize: 333.2 KiB