Package: ggtreeExtra Version: 1.17.0 Command: /home/biocbuild/bbs-3.21-bioc/R/bin/R CMD INSTALL ggtreeExtra StartedAt: 2025-02-20 15:18:38 -0500 (Thu, 20 Feb 2025) EndedAt: 2025-02-20 15:18:44 -0500 (Thu, 20 Feb 2025) EllapsedTime: 6.2 seconds RetCode: 0 Status: OK