Package: ggtreeExtra Version: 1.17.0 Command: /home/biocbuild/bbs-3.21-bioc/R/bin/R CMD check --install=check:ggtreeExtra.install-out.txt --library=/home/biocbuild/bbs-3.21-bioc/R/site-library --timings ggtreeExtra_1.17.0.tar.gz StartedAt: 2025-02-20 22:26:01 -0500 (Thu, 20 Feb 2025) EndedAt: 2025-02-20 22:26:56 -0500 (Thu, 20 Feb 2025) EllapsedTime: 55.2 seconds RetCode: 0 Status: OK CheckDir: ggtreeExtra.Rcheck Warnings: 0