Package: ggtreeExtra Version: 1.17.0 Command: /home/biocbuild/R/R/bin/R CMD INSTALL ggtreeExtra StartedAt: 2025-01-29 20:00:33 -0000 (Wed, 29 Jan 2025) EndedAt: 2025-01-29 20:00:41 -0000 (Wed, 29 Jan 2025) EllapsedTime: 7.9 seconds RetCode: 0 Status: OK