Package: ggtreeExtra Version: 1.17.0 Command: /Library/Frameworks/R.framework/Resources/bin/R CMD check --install=check:ggtreeExtra.install-out.txt --library=/Library/Frameworks/R.framework/Resources/library --no-vignettes --timings ggtreeExtra_1.17.0.tar.gz StartedAt: 2025-02-20 19:31:42 -0500 (Thu, 20 Feb 2025) EndedAt: 2025-02-20 19:32:03 -0500 (Thu, 20 Feb 2025) EllapsedTime: 20.4 seconds RetCode: 0 Status: OK CheckDir: ggtreeExtra.Rcheck Warnings: 0