Package: ggtreeExtra Version: 1.17.0 Command: rm -rf ggtreeExtra.buildbin-libdir && mkdir ggtreeExtra.buildbin-libdir && /Users/biocbuild/BBS/utils/build-universal.sh ggtreeExtra_1.17.0.tar.gz /Library/Frameworks/R.framework/Resources/bin/R ggtreeExtra.buildbin-libdir StartedAt: 2025-02-20 22:20:49 -0500 (Thu, 20 Feb 2025) EndedAt: 2025-02-20 22:20:52 -0500 (Thu, 20 Feb 2025) EllapsedTime: 3.1 seconds RetCode: 0 Status: OK PackageFile: ggtreeExtra_1.17.0.tgz PackageFileSize: 1.039 MiB