Package: ggtreeDendro Version: 1.9.0 Command: /Library/Frameworks/R.framework/Resources/bin/R CMD check --install=check:ggtreeDendro.install-out.txt --library=/Library/Frameworks/R.framework/Resources/library --no-vignettes --timings ggtreeDendro_1.9.0.tar.gz StartedAt: 2025-02-19 20:46:18 -0500 (Wed, 19 Feb 2025) EndedAt: 2025-02-19 20:47:10 -0500 (Wed, 19 Feb 2025) EllapsedTime: 51.6 seconds RetCode: 0 Status: WARNINGS CheckDir: ggtreeDendro.Rcheck Warnings: 1