Package: ggtreeDendro Version: 1.9.0 Command: rm -rf ggtreeDendro.buildbin-libdir && mkdir ggtreeDendro.buildbin-libdir && /Users/biocbuild/BBS/utils/build-universal.sh ggtreeDendro_1.9.0.tar.gz /Library/Frameworks/R.framework/Resources/bin/R ggtreeDendro.buildbin-libdir StartedAt: 2025-02-20 00:34:41 -0500 (Thu, 20 Feb 2025) EndedAt: 2025-02-20 00:34:52 -0500 (Thu, 20 Feb 2025) EllapsedTime: 10.5 seconds RetCode: 0 Status: OK PackageFile: ggtreeDendro_1.9.0.tgz PackageFileSize: 432 KiB