Package: ggtreeDendro Version: 1.9.0 Command: /Library/Frameworks/R.framework/Resources/bin/R CMD check --install=check:ggtreeDendro.install-out.txt --library=/Library/Frameworks/R.framework/Resources/library --no-vignettes --timings ggtreeDendro_1.9.0.tar.gz StartedAt: 2025-02-20 19:31:41 -0500 (Thu, 20 Feb 2025) EndedAt: 2025-02-20 19:32:00 -0500 (Thu, 20 Feb 2025) EllapsedTime: 19.3 seconds RetCode: 0 Status: WARNINGS CheckDir: ggtreeDendro.Rcheck Warnings: 1