Package: ggtree Version: 3.16.3 Command: /home/biocbuild/bbs-3.21-bioc/R/bin/R CMD INSTALL ggtree StartedAt: 2025-10-15 15:09:30 -0400 (Wed, 15 Oct 2025) EndedAt: 2025-10-15 15:09:48 -0400 (Wed, 15 Oct 2025) EllapsedTime: 17.7 seconds RetCode: 0 Status: OK