Package: ggtree Version: 3.16.3 Command: /home/biocbuild/bbs-3.21-bioc/R/bin/R CMD build --keep-empty-dirs --no-resave-data ggtree StartedAt: 2025-10-15 17:44:46 -0400 (Wed, 15 Oct 2025) EndedAt: 2025-10-15 17:44:59 -0400 (Wed, 15 Oct 2025) EllapsedTime: 13.0 seconds RetCode: 0 Status: OK PackageFile: ggtree_3.16.3.tar.gz PackageFileSize: 353.4 KiB