Package: ggtree Version: 3.16.3 Command: /Library/Frameworks/R.framework/Resources/bin/R CMD INSTALL ggtree StartedAt: 2025-10-13 15:18:05 -0400 (Mon, 13 Oct 2025) EndedAt: 2025-10-13 15:18:48 -0400 (Mon, 13 Oct 2025) EllapsedTime: 42.1 seconds RetCode: 0 Status: OK