Package: ggtree Version: 3.16.3 Command: rm -rf ggtree.buildbin-libdir && mkdir ggtree.buildbin-libdir && /Users/biocbuild/BBS/utils/build-universal.sh ggtree_3.16.3.tar.gz /Library/Frameworks/R.framework/Resources/bin/R ggtree.buildbin-libdir StartedAt: 2025-10-14 13:36:18 -0400 (Tue, 14 Oct 2025) EndedAt: 2025-10-14 13:37:01 -0400 (Tue, 14 Oct 2025) EllapsedTime: 43.3 seconds RetCode: 0 Status: OK PackageFile: ggtree_3.16.3.tgz PackageFileSize: 921.3 KiB