Package: ggtree Version: 3.16.3 Command: /Library/Frameworks/R.framework/Resources/bin/R CMD INSTALL ggtree StartedAt: 2025-10-13 15:28:21 -0400 (Mon, 13 Oct 2025) EndedAt: 2025-10-13 15:28:33 -0400 (Mon, 13 Oct 2025) EllapsedTime: 12.5 seconds RetCode: 0 Status: OK