Package: ggtree Version: 3.16.3 Command: /Library/Frameworks/R.framework/Resources/bin/R CMD build --keep-empty-dirs --no-resave-data ggtree StartedAt: 2025-10-14 01:14:21 -0400 (Tue, 14 Oct 2025) EndedAt: 2025-10-14 01:14:39 -0400 (Tue, 14 Oct 2025) EllapsedTime: 17.1 seconds RetCode: 0 Status: OK PackageFile: ggtree_3.16.3.tar.gz PackageFileSize: 353.5 KiB