Package: ggtree Version: 3.16.3 Command: rm -rf ggtree.buildbin-libdir && mkdir ggtree.buildbin-libdir && /Users/biocbuild/BBS/utils/build-universal.sh ggtree_3.16.3.tar.gz /Library/Frameworks/R.framework/Resources/bin/R ggtree.buildbin-libdir StartedAt: 2025-10-15 18:43:11 -0400 (Wed, 15 Oct 2025) EndedAt: 2025-10-15 18:43:26 -0400 (Wed, 15 Oct 2025) EllapsedTime: 14.6 seconds RetCode: 0 Status: OK PackageFile: ggtree_3.16.3.tgz PackageFileSize: 921.4 KiB