Package: ggseqalign Version: 1.1.0 Command: chmod a+r ggseqalign -R && E:\biocbuild\bbs-3.21-bioc\R\bin\R.exe CMD build --keep-empty-dirs --no-resave-data ggseqalign StartedAt: 2025-02-20 19:02:20 -0500 (Thu, 20 Feb 2025) EndedAt: 2025-02-20 19:03:00 -0500 (Thu, 20 Feb 2025) EllapsedTime: 39.8 seconds RetCode: 0 Status: OK PackageFile: ggseqalign_1.1.0.tar.gz PackageFileSize: 490.3 KiB